BEGIN:VCALENDAR
VERSION:2.0
PRODID:-//Tints of Resilience - ECPv4.6.20.1//NONSGML v1.0//EN
CALSCALE:GREGORIAN
METHOD:PUBLISH
X-WR-CALNAME:Tints of Resilience
X-ORIGINAL-URL:https://tintsofresilience.com
X-WR-CALDESC:Events for Tints of Resilience
BEGIN:VEVENT
DTSTART;TZID=Europe/London:20180825T150000
DTEND;TZID=Europe/London:20180825T170000
DTSTAMP:20260421T055306
CREATED:20171120T183805Z
LAST-MODIFIED:20180731T132746Z
UID:13214-1535209200-1535216400@tintsofresilience.com
SUMMARY:Mummy's a Rabbit\, Daddy's a Kangaroo! Art Workshop for Children!
DESCRIPTION:Mummy is a Rabbit\, Daddy is a Kangaroo!\nArt Workshop for Children with artist Diala Brisly \nIn a workshop totally dedicated to your little ones\, we will explore through artistic expression the themes of exchange\, tolerance and value of diversity. \nArtist Diala Brisly will start with an exercise asking your children to imagine two different animals as parents and create a family story centered on howt hey communicate and share their experiences with their child. The end result will be an art book completed by all participants. \nThis workshop is part of “Tints of Resilience” public programme\nDo register your children fast\, places are limited!\nAges 6 to 12. \nSaturday August 25\, 2018\nRSVP necessary\, limited places\n15:00 to 17:00pm GMT\nP21 Gallery \n#art #Londonart #artexhibition #tintsofresilience #londonevent \n
URL:https://tintsofresilience.com/event/children-workshop/
LOCATION:21 Chalton St\, Kings Cross\, London\, United Kingdom
CATEGORIES:Interactive,Workshop
ATTACH;FMTTYPE=image/jpeg:https://tintsofresilience.com/wp-content/uploads/2016/07/Mummy-is-a-Rabbit-Daddy-is-a-Kangoroo.jpg
ORGANIZER;CN="Tints%20of%20Resilience":MAILTO:info@tintsofresilience.com
END:VEVENT
END:VCALENDAR